BEGIN:VCALENDAR
VERSION:2.0
PRODID:-//WAHTS - ECPv6.15.20//NONSGML v1.0//EN
CALSCALE:GREGORIAN
METHOD:PUBLISH
X-WR-CALNAME:WAHTS
X-ORIGINAL-URL:https://wahtshearing.com
X-WR-CALDESC:Events for WAHTS
REFRESH-INTERVAL;VALUE=DURATION:PT1H
X-Robots-Tag:noindex
X-PUBLISHED-TTL:PT1H
BEGIN:VTIMEZONE
TZID:UTC
BEGIN:STANDARD
TZOFFSETFROM:+0000
TZOFFSETTO:+0000
TZNAME:UTC
DTSTART:20250101T000000
END:STANDARD
END:VTIMEZONE
BEGIN:VEVENT
DTSTART;TZID=UTC:20260430T130000
DTEND;TZID=UTC:20260430T140000
DTSTAMP:20260420T013037
CREATED:20260116T185607Z
LAST-MODIFIED:20260116T185607Z
UID:6806-1777554000-1777557600@wahtshearing.com
SUMMARY:Government\, Military & WAHTS
DESCRIPTION:Join WAHTS Hearing for a webinar where we will provide an overview of our innovative boothless hearing and fit protector testing system designed to streamline your hearing conservation program and occupational health services.
URL:https://wahtshearing.com/event/government-military-wahts-4/
CATEGORIES:Webinars
END:VEVENT
BEGIN:VEVENT
DTSTART;TZID=UTC:20260512T130000
DTEND;TZID=UTC:20260512T140000
DTSTAMP:20260420T013037
CREATED:20260116T185639Z
LAST-MODIFIED:20260116T185639Z
UID:6818-1778590800-1778594400@wahtshearing.com
SUMMARY:Commercial & WAHTS
DESCRIPTION:Join WAHTS Hearing for a webinar where we will provide an overview of our innovative boothless hearing and fit protector testing system designed to streamline your hearing conservation program and occupational health services.
URL:https://wahtshearing.com/event/commercial-wahts-4/
CATEGORIES:Webinars
END:VEVENT
BEGIN:VEVENT
DTSTART;TZID=UTC:20260528T130000
DTEND;TZID=UTC:20260528T140000
DTSTAMP:20260420T013037
CREATED:20260116T185608Z
LAST-MODIFIED:20260116T185608Z
UID:6807-1779973200-1779976800@wahtshearing.com
SUMMARY:Government\, Military & WAHTS
DESCRIPTION:Join WAHTS Hearing for a webinar where we will provide an overview of our innovative boothless hearing and fit protector testing system designed to streamline your hearing conservation program and occupational health services.
URL:https://wahtshearing.com/event/government-military-wahts-5/
CATEGORIES:Webinars
END:VEVENT
BEGIN:VEVENT
DTSTART;TZID=UTC:20260609T130000
DTEND;TZID=UTC:20260609T140000
DTSTAMP:20260420T013037
CREATED:20260116T185639Z
LAST-MODIFIED:20260116T185639Z
UID:6819-1781010000-1781013600@wahtshearing.com
SUMMARY:Commercial & WAHTS
DESCRIPTION:Join WAHTS Hearing for a webinar where we will provide an overview of our innovative boothless hearing and fit protector testing system designed to streamline your hearing conservation program and occupational health services.
URL:https://wahtshearing.com/event/commercial-wahts-5/
CATEGORIES:Webinars
END:VEVENT
BEGIN:VEVENT
DTSTART;TZID=UTC:20260625T130000
DTEND;TZID=UTC:20260625T140000
DTSTAMP:20260420T013037
CREATED:20260116T185609Z
LAST-MODIFIED:20260116T185609Z
UID:6808-1782392400-1782396000@wahtshearing.com
SUMMARY:Government\, Military & WAHTS
DESCRIPTION:Join WAHTS Hearing for a webinar where we will provide an overview of our innovative boothless hearing and fit protector testing system designed to streamline your hearing conservation program and occupational health services.
URL:https://wahtshearing.com/event/government-military-wahts-6/
CATEGORIES:Webinars
END:VEVENT
BEGIN:VEVENT
DTSTART;TZID=UTC:20260707T130000
DTEND;TZID=UTC:20260707T140000
DTSTAMP:20260420T013037
CREATED:20260116T185640Z
LAST-MODIFIED:20260116T185640Z
UID:6820-1783429200-1783432800@wahtshearing.com
SUMMARY:Commercial & WAHTS
DESCRIPTION:Join WAHTS Hearing for a webinar where we will provide an overview of our innovative boothless hearing and fit protector testing system designed to streamline your hearing conservation program and occupational health services.
URL:https://wahtshearing.com/event/commercial-wahts-6/
CATEGORIES:Webinars
END:VEVENT
BEGIN:VEVENT
DTSTART;TZID=UTC:20260730T130000
DTEND;TZID=UTC:20260730T140000
DTSTAMP:20260420T013037
CREATED:20260116T185609Z
LAST-MODIFIED:20260116T185609Z
UID:6809-1785416400-1785420000@wahtshearing.com
SUMMARY:Government\, Military & WAHTS
DESCRIPTION:Join WAHTS Hearing for a webinar where we will provide an overview of our innovative boothless hearing and fit protector testing system designed to streamline your hearing conservation program and occupational health services.
URL:https://wahtshearing.com/event/government-military-wahts-7/
CATEGORIES:Webinars
END:VEVENT
BEGIN:VEVENT
DTSTART;TZID=UTC:20260811T130000
DTEND;TZID=UTC:20260811T140000
DTSTAMP:20260420T013037
CREATED:20260116T185640Z
LAST-MODIFIED:20260116T185640Z
UID:6821-1786453200-1786456800@wahtshearing.com
SUMMARY:Commercial & WAHTS
DESCRIPTION:Join WAHTS Hearing for a webinar where we will provide an overview of our innovative boothless hearing and fit protector testing system designed to streamline your hearing conservation program and occupational health services.
URL:https://wahtshearing.com/event/commercial-wahts-7/
CATEGORIES:Webinars
END:VEVENT
BEGIN:VEVENT
DTSTART;TZID=UTC:20260827T130000
DTEND;TZID=UTC:20260827T140000
DTSTAMP:20260420T013037
CREATED:20260116T185609Z
LAST-MODIFIED:20260116T185609Z
UID:6810-1787835600-1787839200@wahtshearing.com
SUMMARY:Government\, Military & WAHTS
DESCRIPTION:Join WAHTS Hearing for a webinar where we will provide an overview of our innovative boothless hearing and fit protector testing system designed to streamline your hearing conservation program and occupational health services.
URL:https://wahtshearing.com/event/government-military-wahts-8/
CATEGORIES:Webinars
END:VEVENT
BEGIN:VEVENT
DTSTART;TZID=UTC:20260908T130000
DTEND;TZID=UTC:20260908T140000
DTSTAMP:20260420T013037
CREATED:20260116T185640Z
LAST-MODIFIED:20260116T185640Z
UID:6822-1788872400-1788876000@wahtshearing.com
SUMMARY:Commercial & WAHTS
DESCRIPTION:Join WAHTS Hearing for a webinar where we will provide an overview of our innovative boothless hearing and fit protector testing system designed to streamline your hearing conservation program and occupational health services.
URL:https://wahtshearing.com/event/commercial-wahts-8/
CATEGORIES:Webinars
END:VEVENT
BEGIN:VEVENT
DTSTART;TZID=UTC:20260924T130000
DTEND;TZID=UTC:20260924T140000
DTSTAMP:20260420T013037
CREATED:20260116T185609Z
LAST-MODIFIED:20260116T185609Z
UID:6811-1790254800-1790258400@wahtshearing.com
SUMMARY:Government\, Military & WAHTS
DESCRIPTION:Join WAHTS Hearing for a webinar where we will provide an overview of our innovative boothless hearing and fit protector testing system designed to streamline your hearing conservation program and occupational health services.
URL:https://wahtshearing.com/event/government-military-wahts-9/
CATEGORIES:Webinars
END:VEVENT
BEGIN:VEVENT
DTSTART;TZID=UTC:20261006T130000
DTEND;TZID=UTC:20261006T140000
DTSTAMP:20260420T013037
CREATED:20260116T185654Z
LAST-MODIFIED:20260116T185654Z
UID:6823-1791291600-1791295200@wahtshearing.com
SUMMARY:Commercial & WAHTS
DESCRIPTION:Join WAHTS Hearing for a webinar where we will provide an overview of our innovative boothless hearing and fit protector testing system designed to streamline your hearing conservation program and occupational health services.
URL:https://wahtshearing.com/event/commercial-wahts-9/
CATEGORIES:Webinars
END:VEVENT
BEGIN:VEVENT
DTSTART;TZID=UTC:20261029T130000
DTEND;TZID=UTC:20261029T140000
DTSTAMP:20260420T013037
CREATED:20260116T185610Z
LAST-MODIFIED:20260116T185610Z
UID:6812-1793278800-1793282400@wahtshearing.com
SUMMARY:Government\, Military & WAHTS
DESCRIPTION:Join WAHTS Hearing for a webinar where we will provide an overview of our innovative boothless hearing and fit protector testing system designed to streamline your hearing conservation program and occupational health services.
URL:https://wahtshearing.com/event/government-military-wahts-10/
CATEGORIES:Webinars
END:VEVENT
BEGIN:VEVENT
DTSTART;TZID=UTC:20261110T130000
DTEND;TZID=UTC:20261110T140000
DTSTAMP:20260420T013037
CREATED:20260116T185654Z
LAST-MODIFIED:20260116T185654Z
UID:6824-1794315600-1794319200@wahtshearing.com
SUMMARY:Commercial & WAHTS
DESCRIPTION:Join WAHTS Hearing for a webinar where we will provide an overview of our innovative boothless hearing and fit protector testing system designed to streamline your hearing conservation program and occupational health services.
URL:https://wahtshearing.com/event/commercial-wahts-10/
CATEGORIES:Webinars
END:VEVENT
BEGIN:VEVENT
DTSTART;TZID=UTC:20261129T130000
DTEND;TZID=UTC:20261129T140000
DTSTAMP:20260420T013037
CREATED:20260116T185624Z
LAST-MODIFIED:20260116T185624Z
UID:6813-1795957200-1795960800@wahtshearing.com
SUMMARY:Government\, Military & WAHTS
DESCRIPTION:Join WAHTS Hearing for a webinar where we will provide an overview of our innovative boothless hearing and fit protector testing system designed to streamline your hearing conservation program and occupational health services.
URL:https://wahtshearing.com/event/government-military-wahts-11/
CATEGORIES:Webinars
END:VEVENT
BEGIN:VEVENT
DTSTART;TZID=UTC:20261208T130000
DTEND;TZID=UTC:20261208T140000
DTSTAMP:20260420T013037
CREATED:20260116T185654Z
LAST-MODIFIED:20260116T185654Z
UID:6825-1796734800-1796738400@wahtshearing.com
SUMMARY:Commercial & WAHTS
DESCRIPTION:Join WAHTS Hearing for a webinar where we will provide an overview of our innovative boothless hearing and fit protector testing system designed to streamline your hearing conservation program and occupational health services.
URL:https://wahtshearing.com/event/commercial-wahts-11/
CATEGORIES:Webinars
END:VEVENT
BEGIN:VEVENT
DTSTART;TZID=UTC:20261217T130000
DTEND;TZID=UTC:20261217T140000
DTSTAMP:20260420T013037
CREATED:20260116T185624Z
LAST-MODIFIED:20260116T185624Z
UID:6814-1797512400-1797516000@wahtshearing.com
SUMMARY:Government\, Military & WAHTS
DESCRIPTION:Join WAHTS Hearing for a webinar where we will provide an overview of our innovative boothless hearing and fit protector testing system designed to streamline your hearing conservation program and occupational health services.
URL:https://wahtshearing.com/event/government-military-wahts-12/
CATEGORIES:Webinars
END:VEVENT
END:VCALENDAR